BEGIN:VCALENDAR
VERSION:2.0
PRODID:-//Queller Gemeinschaft - ECPv6.15.20//NONSGML v1.0//EN
CALSCALE:GREGORIAN
METHOD:PUBLISH
X-ORIGINAL-URL:https://queller-gemeinschaft.de
X-WR-CALDESC:Veranstaltungen für Queller Gemeinschaft
REFRESH-INTERVAL;VALUE=DURATION:PT1H
X-Robots-Tag:noindex
X-PUBLISHED-TTL:PT1H
BEGIN:VTIMEZONE
TZID:Europe/Berlin
BEGIN:DAYLIGHT
TZOFFSETFROM:+0100
TZOFFSETTO:+0200
TZNAME:CEST
DTSTART:20220327T010000
END:DAYLIGHT
BEGIN:STANDARD
TZOFFSETFROM:+0200
TZOFFSETTO:+0100
TZNAME:CET
DTSTART:20221030T010000
END:STANDARD
BEGIN:DAYLIGHT
TZOFFSETFROM:+0100
TZOFFSETTO:+0200
TZNAME:CEST
DTSTART:20230326T010000
END:DAYLIGHT
BEGIN:STANDARD
TZOFFSETFROM:+0200
TZOFFSETTO:+0100
TZNAME:CET
DTSTART:20231029T010000
END:STANDARD
BEGIN:DAYLIGHT
TZOFFSETFROM:+0100
TZOFFSETTO:+0200
TZNAME:CEST
DTSTART:20240331T010000
END:DAYLIGHT
BEGIN:STANDARD
TZOFFSETFROM:+0200
TZOFFSETTO:+0100
TZNAME:CET
DTSTART:20241027T010000
END:STANDARD
BEGIN:DAYLIGHT
TZOFFSETFROM:+0100
TZOFFSETTO:+0200
TZNAME:CEST
DTSTART:20250330T010000
END:DAYLIGHT
BEGIN:STANDARD
TZOFFSETFROM:+0200
TZOFFSETTO:+0100
TZNAME:CET
DTSTART:20251026T010000
END:STANDARD
BEGIN:DAYLIGHT
TZOFFSETFROM:+0100
TZOFFSETTO:+0200
TZNAME:CEST
DTSTART:20260329T010000
END:DAYLIGHT
BEGIN:STANDARD
TZOFFSETFROM:+0200
TZOFFSETTO:+0100
TZNAME:CET
DTSTART:20261025T010000
END:STANDARD
END:VTIMEZONE
BEGIN:VEVENT
DTSTART;TZID=Europe/Berlin:20250628T190000
DTEND;TZID=Europe/Berlin:20250628T220000
DTSTAMP:20260419T163835
CREATED:20250604T081513Z
LAST-MODIFIED:20250604T081629Z
UID:10000273-1751137200-1751148000@queller-gemeinschaft.de
SUMMARY:We are family – das Sommerabendfest im Naturbad
DESCRIPTION:We are family – das Sommerabendfest im Naturbad\nam Samstag\, 28. Juni um 19 Uhr \nFeier‘ mit uns den Sommer!
URL:https://queller-gemeinschaft.de/veranstaltungen/we-are-family-das-sommerabendfest-im-naturbad/
LOCATION:Naturbad Brackwede\, Osnabrücker Str. 63a\, Bielefeld\, NRW\, 33649\, Deutschland
CATEGORIES:Veranstaltungen in Quelle
ATTACH;FMTTYPE=image/jpeg:https://queller-gemeinschaft.de/wp-content/uploads/2025/06/nbb_we_are_family_2025_650.jpg
END:VEVENT
BEGIN:VEVENT
DTSTART;TZID=Europe/Berlin:20230518T120000
DTEND;TZID=Europe/Berlin:20230518T190000
DTSTAMP:20260419T163835
CREATED:20230516T181717Z
LAST-MODIFIED:20230516T181822Z
UID:10000087-1684411200-1684436400@queller-gemeinschaft.de
SUMMARY:Saisonstart im Naturbad
DESCRIPTION:Die Saison im Natubad startet am 18. Mai 2023! \nWir wünschen euch eine tolle Saison und immer bestes Badewetter!
URL:https://queller-gemeinschaft.de/veranstaltungen/saisonstart-im-naturbad/
LOCATION:Naturbad Brackwede\, Osnabrücker Str. 63a\, Bielefeld\, NRW\, 33649\, Deutschland
CATEGORIES:Veranstaltungen in Quelle
ATTACH;FMTTYPE=image/jpeg:https://queller-gemeinschaft.de/wp-content/uploads/2023/05/345592545_223709373629802_2002758917147778396_n.jpg
END:VEVENT
END:VCALENDAR