BEGIN:VCALENDAR
VERSION:2.0
PRODID:-//Queller Gemeinschaft - ECPv6.15.20//NONSGML v1.0//EN
CALSCALE:GREGORIAN
METHOD:PUBLISH
X-WR-CALNAME:Queller Gemeinschaft
X-ORIGINAL-URL:https://queller-gemeinschaft.de
X-WR-CALDESC:Veranstaltungen für Queller Gemeinschaft
REFRESH-INTERVAL;VALUE=DURATION:PT1H
X-Robots-Tag:noindex
X-PUBLISHED-TTL:PT1H
BEGIN:VTIMEZONE
TZID:Europe/Berlin
BEGIN:DAYLIGHT
TZOFFSETFROM:+0100
TZOFFSETTO:+0200
TZNAME:CEST
DTSTART:20220327T010000
END:DAYLIGHT
BEGIN:STANDARD
TZOFFSETFROM:+0200
TZOFFSETTO:+0100
TZNAME:CET
DTSTART:20221030T010000
END:STANDARD
BEGIN:DAYLIGHT
TZOFFSETFROM:+0100
TZOFFSETTO:+0200
TZNAME:CEST
DTSTART:20230326T010000
END:DAYLIGHT
BEGIN:STANDARD
TZOFFSETFROM:+0200
TZOFFSETTO:+0100
TZNAME:CET
DTSTART:20231029T010000
END:STANDARD
BEGIN:DAYLIGHT
TZOFFSETFROM:+0100
TZOFFSETTO:+0200
TZNAME:CEST
DTSTART:20240331T010000
END:DAYLIGHT
BEGIN:STANDARD
TZOFFSETFROM:+0200
TZOFFSETTO:+0100
TZNAME:CET
DTSTART:20241027T010000
END:STANDARD
BEGIN:DAYLIGHT
TZOFFSETFROM:+0100
TZOFFSETTO:+0200
TZNAME:CEST
DTSTART:20250330T010000
END:DAYLIGHT
BEGIN:STANDARD
TZOFFSETFROM:+0200
TZOFFSETTO:+0100
TZNAME:CET
DTSTART:20251026T010000
END:STANDARD
END:VTIMEZONE
BEGIN:VEVENT
DTSTART;VALUE=DATE:20240629
DTEND;VALUE=DATE:20240701
DTSTAMP:20260423T111557
CREATED:20230727T092823Z
LAST-MODIFIED:20230727T092831Z
UID:10000094-1719619200-1719791999@queller-gemeinschaft.de
SUMMARY:Queller Sommer 2024
DESCRIPTION:Mitten im Zentrum von Quelle wird gefeiert!
URL:https://queller-gemeinschaft.de/veranstaltungen/queller-sommer-2023-2/
LOCATION:Mitten in Quelle\, Carl-Severing-Str.\, Bielefeld\, NRW\, 33649\, Deutschland
CATEGORIES:Veranstaltungen in Quelle
ATTACH;FMTTYPE=image/png:https://queller-gemeinschaft.de/wp-content/uploads/2023/07/Queller_Sommer_Poster_2024.png
ORGANIZER;CN="Queller Gemeinschaft e. V.":MAILTO:info@queller-gemeinschaft.de
END:VEVENT
BEGIN:VEVENT
DTSTART;VALUE=DATE:20230617
DTEND;VALUE=DATE:20230619
DTSTAMP:20260423T111557
CREATED:20221019T193702Z
LAST-MODIFIED:20221019T193702Z
UID:10000014-1686960000-1687132799@queller-gemeinschaft.de
SUMMARY:Queller Sommer 2023
DESCRIPTION:Mitten im Zentrum von Quelle wird gefeiert!
URL:https://queller-gemeinschaft.de/veranstaltungen/queller-sommer-2023/
LOCATION:Mitten in Quelle\, Carl-Severing-Str.\, Bielefeld\, NRW\, 33649\, Deutschland
CATEGORIES:Veranstaltungen in Quelle
ATTACH;FMTTYPE=image/jpeg:https://queller-gemeinschaft.de/wp-content/uploads/2022/09/qs2023.jpeg
ORGANIZER;CN="Queller Gemeinschaft e. V.":MAILTO:info@queller-gemeinschaft.de
END:VEVENT
END:VCALENDAR