BEGIN:VCALENDAR
VERSION:2.0
PRODID:-//Queller Gemeinschaft - ECPv6.15.20//NONSGML v1.0//EN
CALSCALE:GREGORIAN
METHOD:PUBLISH
X-ORIGINAL-URL:https://queller-gemeinschaft.de
X-WR-CALDESC:Veranstaltungen für Queller Gemeinschaft
REFRESH-INTERVAL;VALUE=DURATION:PT1H
X-Robots-Tag:noindex
X-PUBLISHED-TTL:PT1H
BEGIN:VTIMEZONE
TZID:Europe/Berlin
BEGIN:DAYLIGHT
TZOFFSETFROM:+0100
TZOFFSETTO:+0200
TZNAME:CEST
DTSTART:20250330T010000
END:DAYLIGHT
BEGIN:STANDARD
TZOFFSETFROM:+0200
TZOFFSETTO:+0100
TZNAME:CET
DTSTART:20251026T010000
END:STANDARD
BEGIN:DAYLIGHT
TZOFFSETFROM:+0100
TZOFFSETTO:+0200
TZNAME:CEST
DTSTART:20260329T010000
END:DAYLIGHT
BEGIN:STANDARD
TZOFFSETFROM:+0200
TZOFFSETTO:+0100
TZNAME:CET
DTSTART:20261025T010000
END:STANDARD
BEGIN:DAYLIGHT
TZOFFSETFROM:+0100
TZOFFSETTO:+0200
TZNAME:CEST
DTSTART:20270328T010000
END:DAYLIGHT
BEGIN:STANDARD
TZOFFSETFROM:+0200
TZOFFSETTO:+0100
TZNAME:CET
DTSTART:20271031T010000
END:STANDARD
END:VTIMEZONE
BEGIN:VEVENT
DTSTART;VALUE=DATE:20260910
DTEND;VALUE=DATE:20260911
DTSTAMP:20260420T105648
CREATED:20250823T093948Z
LAST-MODIFIED:20250823T093948Z
UID:10000293-1788998400-1789084799@queller-gemeinschaft.de
SUMMARY:Heimatverein: Kloster Corvey
DESCRIPTION:
URL:https://queller-gemeinschaft.de/veranstaltungen/heimatverein-kloster-corvey/
LOCATION:NRW
ATTACH;FMTTYPE=image/gif:https://queller-gemeinschaft.de/wp-content/uploads/2023/11/HGV.gif
ORGANIZER;CN="Heimat- und Geschichtsverein Quelle e. V.":MAILTO:veranstaltungen@heimatverein-quelle.de
END:VEVENT
END:VCALENDAR