BEGIN:VCALENDAR
VERSION:2.0
PRODID:-//Queller Gemeinschaft - ECPv6.15.20//NONSGML v1.0//EN
CALSCALE:GREGORIAN
METHOD:PUBLISH
X-WR-CALNAME:Queller Gemeinschaft
X-ORIGINAL-URL:https://queller-gemeinschaft.de
X-WR-CALDESC:Veranstaltungen für Queller Gemeinschaft
REFRESH-INTERVAL;VALUE=DURATION:PT1H
X-Robots-Tag:noindex
X-PUBLISHED-TTL:PT1H
BEGIN:VTIMEZONE
TZID:Europe/Berlin
BEGIN:DAYLIGHT
TZOFFSETFROM:+0100
TZOFFSETTO:+0200
TZNAME:CEST
DTSTART:20230326T010000
END:DAYLIGHT
BEGIN:STANDARD
TZOFFSETFROM:+0200
TZOFFSETTO:+0100
TZNAME:CET
DTSTART:20231029T010000
END:STANDARD
BEGIN:DAYLIGHT
TZOFFSETFROM:+0100
TZOFFSETTO:+0200
TZNAME:CEST
DTSTART:20240331T010000
END:DAYLIGHT
BEGIN:STANDARD
TZOFFSETFROM:+0200
TZOFFSETTO:+0100
TZNAME:CET
DTSTART:20241027T010000
END:STANDARD
BEGIN:DAYLIGHT
TZOFFSETFROM:+0100
TZOFFSETTO:+0200
TZNAME:CEST
DTSTART:20250330T010000
END:DAYLIGHT
BEGIN:STANDARD
TZOFFSETFROM:+0200
TZOFFSETTO:+0100
TZNAME:CET
DTSTART:20251026T010000
END:STANDARD
END:VTIMEZONE
BEGIN:VEVENT
DTSTART;TZID=Europe/Berlin:20240831T103000
DTEND;TZID=Europe/Berlin:20240831T170000
DTSTAMP:20260424T103640
CREATED:20231129T170857Z
LAST-MODIFIED:20240428T114756Z
UID:10000151-1725100200-1725123600@queller-gemeinschaft.de
SUMMARY:Brakel\, Horn-Bad Meinberg\, Schieder-Schwalenberg Lippische Bäder und Burgen Besichtigungen Führungen
DESCRIPTION:Brakel\, Horn-Bad Meinberg\, Schieder-Schwalenberg Lippische Bäder und Burgen Besichtigungen Führungen \n10. 30 ab Gemeinschaftshaus Quelle – Halbtagesfahrt (Bus) \nAnmeldung bis 25.08.2024 Tel. 0521 431945 (R.Kräuter) \nveranstaltungen@heimatverein-quelle.de
URL:https://queller-gemeinschaft.de/veranstaltungen/brakel-horn-bad-meinberg-schieder-schwalenberg-lippische-baeder-und-burgen-besichtigungen-fuehrungen/
LOCATION:NRW
CATEGORIES:Veranstaltungen in Quelle
ATTACH;FMTTYPE=image/gif:https://queller-gemeinschaft.de/wp-content/uploads/2023/11/HGV.gif
ORGANIZER;CN="Heimat- und Geschichtsverein Quelle e. V.":MAILTO:veranstaltungen@heimatverein-quelle.de
END:VEVENT
END:VCALENDAR