BEGIN:VCALENDAR
VERSION:2.0
PRODID:-//Queller Gemeinschaft - ECPv6.15.20//NONSGML v1.0//EN
CALSCALE:GREGORIAN
METHOD:PUBLISH
X-WR-CALNAME:Queller Gemeinschaft
X-ORIGINAL-URL:https://queller-gemeinschaft.de
X-WR-CALDESC:Veranstaltungen für Queller Gemeinschaft
REFRESH-INTERVAL;VALUE=DURATION:PT1H
X-Robots-Tag:noindex
X-PUBLISHED-TTL:PT1H
BEGIN:VTIMEZONE
TZID:Europe/Berlin
BEGIN:DAYLIGHT
TZOFFSETFROM:+0100
TZOFFSETTO:+0200
TZNAME:CEST
DTSTART:20230326T010000
END:DAYLIGHT
BEGIN:STANDARD
TZOFFSETFROM:+0200
TZOFFSETTO:+0100
TZNAME:CET
DTSTART:20231029T010000
END:STANDARD
BEGIN:DAYLIGHT
TZOFFSETFROM:+0100
TZOFFSETTO:+0200
TZNAME:CEST
DTSTART:20240331T010000
END:DAYLIGHT
BEGIN:STANDARD
TZOFFSETFROM:+0200
TZOFFSETTO:+0100
TZNAME:CET
DTSTART:20241027T010000
END:STANDARD
BEGIN:DAYLIGHT
TZOFFSETFROM:+0100
TZOFFSETTO:+0200
TZNAME:CEST
DTSTART:20250330T010000
END:DAYLIGHT
BEGIN:STANDARD
TZOFFSETFROM:+0200
TZOFFSETTO:+0100
TZNAME:CET
DTSTART:20251026T010000
END:STANDARD
END:VTIMEZONE
BEGIN:VEVENT
DTSTART;TZID=Europe/Berlin:20240727T180000
DTEND;TZID=Europe/Berlin:20240727T220000
DTSTAMP:20260424T103635
CREATED:20240530T080011Z
LAST-MODIFIED:20240530T080011Z
UID:10000188-1722103200-1722117600@queller-gemeinschaft.de
SUMMARY:Picknick & Musik - Dizzy Dudes
DESCRIPTION:Einlass 18:00 Uhr \nBeginn 19:00 Uhr \n 
URL:https://queller-gemeinschaft.de/veranstaltungen/picknick-musik-dizzy-dudes/
LOCATION:Gewerbegebiet Ummeln\, Brockhagener Str. 193\, Bielefeld\, NRW\, 33649\, Deutschland
CATEGORIES:Veranstaltungen in Quelle
ATTACH;FMTTYPE=image/jpeg:https://queller-gemeinschaft.de/wp-content/uploads/2024/05/Picknick.jpg
ORGANIZER;CN="Ummelner Gemeinschaft e. V.":MAILTO:vorstand@wir-sind-ummeln.de
END:VEVENT
END:VCALENDAR