BEGIN:VCALENDAR
VERSION:2.0
PRODID:-//Queller Gemeinschaft - ECPv6.15.20//NONSGML v1.0//EN
CALSCALE:GREGORIAN
METHOD:PUBLISH
X-ORIGINAL-URL:https://queller-gemeinschaft.de
X-WR-CALDESC:Veranstaltungen für Queller Gemeinschaft
REFRESH-INTERVAL;VALUE=DURATION:PT1H
X-Robots-Tag:noindex
X-PUBLISHED-TTL:PT1H
BEGIN:VTIMEZONE
TZID:Europe/Berlin
BEGIN:DAYLIGHT
TZOFFSETFROM:+0100
TZOFFSETTO:+0200
TZNAME:CEST
DTSTART:20230326T010000
END:DAYLIGHT
BEGIN:STANDARD
TZOFFSETFROM:+0200
TZOFFSETTO:+0100
TZNAME:CET
DTSTART:20231029T010000
END:STANDARD
BEGIN:DAYLIGHT
TZOFFSETFROM:+0100
TZOFFSETTO:+0200
TZNAME:CEST
DTSTART:20240331T010000
END:DAYLIGHT
BEGIN:STANDARD
TZOFFSETFROM:+0200
TZOFFSETTO:+0100
TZNAME:CET
DTSTART:20241027T010000
END:STANDARD
BEGIN:DAYLIGHT
TZOFFSETFROM:+0100
TZOFFSETTO:+0200
TZNAME:CEST
DTSTART:20250330T010000
END:DAYLIGHT
BEGIN:STANDARD
TZOFFSETFROM:+0200
TZOFFSETTO:+0100
TZNAME:CET
DTSTART:20251026T010000
END:STANDARD
END:VTIMEZONE
BEGIN:VEVENT
DTSTART;TZID=Europe/Berlin:20240721T150000
DTEND;TZID=Europe/Berlin:20240721T160000
DTSTAMP:20260420T112308
CREATED:20240624T094428Z
LAST-MODIFIED:20240624T094428Z
UID:10000191-1721574000-1721577600@queller-gemeinschaft.de
SUMMARY:Niemöllers Mühle - MGV Harmonie Brackwede/Teutoburger Liederkranz
DESCRIPTION:Am 21.07.2024  tritt der MGV Harmonie Brackwede/Teutoburger Liederkranz von 15.00 bis 16.00 an der Mühle auf.
URL:https://queller-gemeinschaft.de/veranstaltungen/niemoellers-muehle-mgv-harmonie-brackwede-teutoburger-liederkranz/
LOCATION:Niemöllers Mühle\, Niemöllershof 9a\, Bielefeld\, NRW\, 33649\, Deutschland
CATEGORIES:Veranstaltungen in Quelle
ORGANIZER;CN="Ver%C2%ADein der Freun%C2%ADde und F%C3%B6r%C2%ADde%C2%ADrer der M%C3%BCh%C2%ADle Nie%C2%ADm%C3%B6l%C2%ADler in Quel%C2%ADle e. V":MAILTO:info@craftwerk-bielefeld.de
END:VEVENT
END:VCALENDAR