BEGIN:VCALENDAR
VERSION:2.0
PRODID:-//Queller Gemeinschaft - ECPv6.15.20//NONSGML v1.0//EN
CALSCALE:GREGORIAN
METHOD:PUBLISH
X-ORIGINAL-URL:https://queller-gemeinschaft.de
X-WR-CALDESC:Veranstaltungen für Queller Gemeinschaft
REFRESH-INTERVAL;VALUE=DURATION:PT1H
X-Robots-Tag:noindex
X-PUBLISHED-TTL:PT1H
BEGIN:VTIMEZONE
TZID:Europe/Berlin
BEGIN:DAYLIGHT
TZOFFSETFROM:+0100
TZOFFSETTO:+0200
TZNAME:CEST
DTSTART:20230326T010000
END:DAYLIGHT
BEGIN:STANDARD
TZOFFSETFROM:+0200
TZOFFSETTO:+0100
TZNAME:CET
DTSTART:20231029T010000
END:STANDARD
BEGIN:DAYLIGHT
TZOFFSETFROM:+0100
TZOFFSETTO:+0200
TZNAME:CEST
DTSTART:20240331T010000
END:DAYLIGHT
BEGIN:STANDARD
TZOFFSETFROM:+0200
TZOFFSETTO:+0100
TZNAME:CET
DTSTART:20241027T010000
END:STANDARD
BEGIN:DAYLIGHT
TZOFFSETFROM:+0100
TZOFFSETTO:+0200
TZNAME:CEST
DTSTART:20250330T010000
END:DAYLIGHT
BEGIN:STANDARD
TZOFFSETFROM:+0200
TZOFFSETTO:+0100
TZNAME:CET
DTSTART:20251026T010000
END:STANDARD
END:VTIMEZONE
BEGIN:VEVENT
DTSTART;TZID=Europe/Berlin:20240620T080000
DTEND;TZID=Europe/Berlin:20240620T170000
DTSTAMP:20260424T122350
CREATED:20231129T170757Z
LAST-MODIFIED:20240428T114710Z
UID:10000150-1718870400-1718902800@queller-gemeinschaft.de
SUMMARY:Tagesfahrt nach Essen Besichtigung und Führung     Villa Hügel\, Schifffahrt auf dem Baldeneysee
DESCRIPTION:Tagesfahrt nach Essen Besichtigung und Führung \n   Villa Hügel\, Schifffahrt auf dem Baldeneysee \n   8:00 Uhr Gemeinschaftshaus Quelle ( Bus) \n   Anmeldung bis 06.06.2024 Tel. 0521 452475 veranstaltungen@heimatverein-quelle.de
URL:https://queller-gemeinschaft.de/veranstaltungen/tagesfahrt-nach-essen-besichtigung-und-fuehrung-villa-huegel-schifffahrt-auf-dem-baldeneysee/
LOCATION:NRW
CATEGORIES:Veranstaltungen in Quelle
ATTACH;FMTTYPE=image/gif:https://queller-gemeinschaft.de/wp-content/uploads/2023/11/HGV.gif
ORGANIZER;CN="Heimat- und Geschichtsverein Quelle e. V.":MAILTO:veranstaltungen@heimatverein-quelle.de
END:VEVENT
END:VCALENDAR