BEGIN:VCALENDAR
VERSION:2.0
PRODID:-//Queller Gemeinschaft - ECPv6.15.20//NONSGML v1.0//EN
CALSCALE:GREGORIAN
METHOD:PUBLISH
X-WR-CALNAME:Queller Gemeinschaft
X-ORIGINAL-URL:https://queller-gemeinschaft.de
X-WR-CALDESC:Veranstaltungen für Queller Gemeinschaft
REFRESH-INTERVAL;VALUE=DURATION:PT1H
X-Robots-Tag:noindex
X-PUBLISHED-TTL:PT1H
BEGIN:VTIMEZONE
TZID:Europe/Berlin
BEGIN:DAYLIGHT
TZOFFSETFROM:+0100
TZOFFSETTO:+0200
TZNAME:CEST
DTSTART:20230326T010000
END:DAYLIGHT
BEGIN:STANDARD
TZOFFSETFROM:+0200
TZOFFSETTO:+0100
TZNAME:CET
DTSTART:20231029T010000
END:STANDARD
BEGIN:DAYLIGHT
TZOFFSETFROM:+0100
TZOFFSETTO:+0200
TZNAME:CEST
DTSTART:20240331T010000
END:DAYLIGHT
BEGIN:STANDARD
TZOFFSETFROM:+0200
TZOFFSETTO:+0100
TZNAME:CET
DTSTART:20241027T010000
END:STANDARD
BEGIN:DAYLIGHT
TZOFFSETFROM:+0100
TZOFFSETTO:+0200
TZNAME:CEST
DTSTART:20250330T010000
END:DAYLIGHT
BEGIN:STANDARD
TZOFFSETFROM:+0200
TZOFFSETTO:+0100
TZNAME:CET
DTSTART:20251026T010000
END:STANDARD
END:VTIMEZONE
BEGIN:VEVENT
DTSTART;TZID=Europe/Berlin:20240613T080000
DTEND;TZID=Europe/Berlin:20240613T170000
DTSTAMP:20260424T103630
CREATED:20240428T114334Z
LAST-MODIFIED:20250731T100144Z
UID:10000277-1718265600-1718298000@queller-gemeinschaft.de
SUMMARY:SoVD Versammlung des Ortsverbands Brackwede-Quelle
DESCRIPTION:SoVD Ortsverband Brackwede – Quelle\, \nGaststätte Taverne Sprungmann\, Osnabrücker Str. 65\, 33649 Bielefeld-Quelle \nAnsprechpartner: Wolfgang Kerker
URL:https://queller-gemeinschaft.de/veranstaltungen/sovd-versammlung-des-ortsverbands-brackwede-quelle/2024-06-13/1/
LOCATION:Taverne Sprungmann\, Osnabrücker Str. 65\, Bielefeld\, NRW\, 33649\, Deutschland
CATEGORIES:Vereinssitzung
ATTACH;FMTTYPE=image/png:https://queller-gemeinschaft.de/wp-content/uploads/2024/04/SoVD.png
END:VEVENT
BEGIN:VEVENT
DTSTART;TZID=Europe/Berlin:20240613T170000
DTEND;TZID=Europe/Berlin:20240613T190000
DTSTAMP:20260424T103630
CREATED:20240428T114334Z
LAST-MODIFIED:20250731T100144Z
UID:10000181-1718298000-1718305200@queller-gemeinschaft.de
SUMMARY:SoVD Versammlung des Ortsverbands Brackwede-Quelle
DESCRIPTION:SoVD Ortsverband Brackwede – Quelle\, \nGaststätte Taverne Sprungmann\, Osnabrücker Str. 65\, 33649 Bielefeld-Quelle \nAnsprechpartner: Wolfgang Kerker
URL:https://queller-gemeinschaft.de/veranstaltungen/sovd-versammlung-des-ortsverbands-brackwede-quelle/2024-06-13/2/
LOCATION:Taverne Sprungmann\, Osnabrücker Str. 65\, Bielefeld\, NRW\, 33649\, Deutschland
CATEGORIES:Vereinssitzung
ATTACH;FMTTYPE=image/png:https://queller-gemeinschaft.de/wp-content/uploads/2024/04/SoVD.png
END:VEVENT
END:VCALENDAR