BEGIN:VCALENDAR
VERSION:2.0
PRODID:-//Queller Gemeinschaft - ECPv6.15.20//NONSGML v1.0//EN
CALSCALE:GREGORIAN
METHOD:PUBLISH
X-WR-CALNAME:Queller Gemeinschaft
X-ORIGINAL-URL:https://queller-gemeinschaft.de
X-WR-CALDESC:Veranstaltungen für Queller Gemeinschaft
REFRESH-INTERVAL;VALUE=DURATION:PT1H
X-Robots-Tag:noindex
X-PUBLISHED-TTL:PT1H
BEGIN:VTIMEZONE
TZID:Europe/Berlin
BEGIN:DAYLIGHT
TZOFFSETFROM:+0100
TZOFFSETTO:+0200
TZNAME:CEST
DTSTART:20230326T010000
END:DAYLIGHT
BEGIN:STANDARD
TZOFFSETFROM:+0200
TZOFFSETTO:+0100
TZNAME:CET
DTSTART:20231029T010000
END:STANDARD
BEGIN:DAYLIGHT
TZOFFSETFROM:+0100
TZOFFSETTO:+0200
TZNAME:CEST
DTSTART:20240331T010000
END:DAYLIGHT
BEGIN:STANDARD
TZOFFSETFROM:+0200
TZOFFSETTO:+0100
TZNAME:CET
DTSTART:20241027T010000
END:STANDARD
BEGIN:DAYLIGHT
TZOFFSETFROM:+0100
TZOFFSETTO:+0200
TZNAME:CEST
DTSTART:20250330T010000
END:DAYLIGHT
BEGIN:STANDARD
TZOFFSETFROM:+0200
TZOFFSETTO:+0100
TZNAME:CET
DTSTART:20251026T010000
END:STANDARD
END:VTIMEZONE
BEGIN:VEVENT
DTSTART;TZID=Europe/Berlin:20240608T100000
DTEND;TZID=Europe/Berlin:20240608T120000
DTSTAMP:20260420T105542
CREATED:20231117T172746Z
LAST-MODIFIED:20240426T065539Z
UID:10000137-1717840800-1717848000@queller-gemeinschaft.de
SUMMARY:Johannes-Frühstück im Gemeindehaus
DESCRIPTION:Lust auf \n* nette Gemeinschaft und gute Gespräche? \n* ein leckeres und reichhaltiges Frühstück? (vieles davon bio\, fairtrade und regional) \n* eine Spiel- und Malecke sowie Hochstühle für unsere kleinen Gäste? \nDann seid herzlich willkommen! \nUnser Frühstück findet einmal im Monat statt und ist kostenlos. Wir freuen uns aber über Spenden!
URL:https://queller-gemeinschaft.de/veranstaltungen/johannes-fruehstueck-im-gemeindehaus-7/2024-06-08/
LOCATION:Gemeindehaus Ev. Kirchengemeinde\, Georgstr. 19\, Bielefeld\, NRW\, 33649\, Deutschland
CATEGORIES:Veranstaltungen in Quelle
ATTACH;FMTTYPE=image/png:https://queller-gemeinschaft.de/wp-content/uploads/2023/11/Gemeindefruehstueck.png
END:VEVENT
END:VCALENDAR