BEGIN:VCALENDAR
VERSION:2.0
PRODID:-//Queller Gemeinschaft - ECPv6.15.20//NONSGML v1.0//EN
CALSCALE:GREGORIAN
METHOD:PUBLISH
X-ORIGINAL-URL:https://queller-gemeinschaft.de
X-WR-CALDESC:Veranstaltungen für Queller Gemeinschaft
REFRESH-INTERVAL;VALUE=DURATION:PT1H
X-Robots-Tag:noindex
X-PUBLISHED-TTL:PT1H
BEGIN:VTIMEZONE
TZID:Europe/Berlin
BEGIN:DAYLIGHT
TZOFFSETFROM:+0100
TZOFFSETTO:+0200
TZNAME:CEST
DTSTART:20230326T010000
END:DAYLIGHT
BEGIN:STANDARD
TZOFFSETFROM:+0200
TZOFFSETTO:+0100
TZNAME:CET
DTSTART:20231029T010000
END:STANDARD
BEGIN:DAYLIGHT
TZOFFSETFROM:+0100
TZOFFSETTO:+0200
TZNAME:CEST
DTSTART:20240331T010000
END:DAYLIGHT
BEGIN:STANDARD
TZOFFSETFROM:+0200
TZOFFSETTO:+0100
TZNAME:CET
DTSTART:20241027T010000
END:STANDARD
BEGIN:DAYLIGHT
TZOFFSETFROM:+0100
TZOFFSETTO:+0200
TZNAME:CEST
DTSTART:20250330T010000
END:DAYLIGHT
BEGIN:STANDARD
TZOFFSETFROM:+0200
TZOFFSETTO:+0100
TZNAME:CET
DTSTART:20251026T010000
END:STANDARD
END:VTIMEZONE
BEGIN:VEVENT
DTSTART;TZID=Europe/Berlin:20240512T080000
DTEND;TZID=Europe/Berlin:20240512T170000
DTSTAMP:20260422T170029
CREATED:20240223T174033Z
LAST-MODIFIED:20240223T174033Z
UID:10000171-1715500800-1715533200@queller-gemeinschaft.de
SUMMARY:Repair Cafe in Brackwede
DESCRIPTION:Wir suchen stets Mithelfer für unsere Repair Cafe’s ! Wer also technische / elektronische Kenntnisse hat und auch gerne in die leuchtenden Augen des Gegenüber sehen möchte wenn eine Reparatur gelingt\, soll sich einfach bei uns melden. Aber auch freundliche Personen für die Begrüßung & Anmeldung unserer Gäste sind sehr gesucht. Bitte einfach über unseren „Kontakt“ eine E-Mail schicken\, wir freuen uns auf Dich!
URL:https://queller-gemeinschaft.de/veranstaltungen/repair-cafe-in-brackwede/2024-05-12/
LOCATION:Begegnungszentrum Brackwede\, Stadtring 52a\, Bielefeld\, NRW\, 33647\, Deutschland
ORGANIZER;CN="Bielefelder Zukunftswerkstatt e.V.":MAILTO:annette.hellweg@bethel.de
END:VEVENT
END:VCALENDAR