BEGIN:VCALENDAR
VERSION:2.0
PRODID:-//Queller Gemeinschaft - ECPv6.15.20//NONSGML v1.0//EN
CALSCALE:GREGORIAN
METHOD:PUBLISH
X-WR-CALNAME:Queller Gemeinschaft
X-ORIGINAL-URL:https://queller-gemeinschaft.de
X-WR-CALDESC:Veranstaltungen für Queller Gemeinschaft
REFRESH-INTERVAL;VALUE=DURATION:PT1H
X-Robots-Tag:noindex
X-PUBLISHED-TTL:PT1H
BEGIN:VTIMEZONE
TZID:Europe/Berlin
BEGIN:DAYLIGHT
TZOFFSETFROM:+0100
TZOFFSETTO:+0200
TZNAME:CEST
DTSTART:20230326T010000
END:DAYLIGHT
BEGIN:STANDARD
TZOFFSETFROM:+0200
TZOFFSETTO:+0100
TZNAME:CET
DTSTART:20231029T010000
END:STANDARD
BEGIN:DAYLIGHT
TZOFFSETFROM:+0100
TZOFFSETTO:+0200
TZNAME:CEST
DTSTART:20240331T010000
END:DAYLIGHT
BEGIN:STANDARD
TZOFFSETFROM:+0200
TZOFFSETTO:+0100
TZNAME:CET
DTSTART:20241027T010000
END:STANDARD
BEGIN:DAYLIGHT
TZOFFSETFROM:+0100
TZOFFSETTO:+0200
TZNAME:CEST
DTSTART:20250330T010000
END:DAYLIGHT
BEGIN:STANDARD
TZOFFSETFROM:+0200
TZOFFSETTO:+0100
TZNAME:CET
DTSTART:20251026T010000
END:STANDARD
END:VTIMEZONE
BEGIN:VEVENT
DTSTART;TZID=Europe/Berlin:20240506T190000
DTEND;TZID=Europe/Berlin:20240506T210000
DTSTAMP:20260424T103645
CREATED:20240213T081115Z
LAST-MODIFIED:20240213T081115Z
UID:10000168-1715022000-1715029200@queller-gemeinschaft.de
SUMMARY:Focus Quelle - Bürgermeister für Bürgerfragen mit Bezirksbürgermeister Jesco von Kuczkowski
DESCRIPTION:Akute Queller Themen mit Bezirksbürgermeister Jesco von Kuczkowski
URL:https://queller-gemeinschaft.de/veranstaltungen/focus-quelle-buergermeister-fuer-buergerfragen-mit-bezirksbuergermeister-jesco-von-kuczkowski/
LOCATION:NRW
CATEGORIES:Focus Quelle,Veranstaltungen in Quelle
ATTACH;FMTTYPE=image/png:https://queller-gemeinschaft.de/wp-content/uploads/2024/02/Focus-Quelle-Jesco-von-Kuczkowski.png
END:VEVENT
END:VCALENDAR