BEGIN:VCALENDAR
VERSION:2.0
PRODID:-//Queller Gemeinschaft - ECPv6.15.20//NONSGML v1.0//EN
CALSCALE:GREGORIAN
METHOD:PUBLISH
X-WR-CALNAME:Queller Gemeinschaft
X-ORIGINAL-URL:https://queller-gemeinschaft.de
X-WR-CALDESC:Veranstaltungen für Queller Gemeinschaft
REFRESH-INTERVAL;VALUE=DURATION:PT1H
X-Robots-Tag:noindex
X-PUBLISHED-TTL:PT1H
BEGIN:VTIMEZONE
TZID:Europe/Berlin
BEGIN:DAYLIGHT
TZOFFSETFROM:+0100
TZOFFSETTO:+0200
TZNAME:CEST
DTSTART:20230326T010000
END:DAYLIGHT
BEGIN:STANDARD
TZOFFSETFROM:+0200
TZOFFSETTO:+0100
TZNAME:CET
DTSTART:20231029T010000
END:STANDARD
BEGIN:DAYLIGHT
TZOFFSETFROM:+0100
TZOFFSETTO:+0200
TZNAME:CEST
DTSTART:20240331T010000
END:DAYLIGHT
BEGIN:STANDARD
TZOFFSETFROM:+0200
TZOFFSETTO:+0100
TZNAME:CET
DTSTART:20241027T010000
END:STANDARD
BEGIN:DAYLIGHT
TZOFFSETFROM:+0100
TZOFFSETTO:+0200
TZNAME:CEST
DTSTART:20250330T010000
END:DAYLIGHT
BEGIN:STANDARD
TZOFFSETFROM:+0200
TZOFFSETTO:+0100
TZNAME:CET
DTSTART:20251026T010000
END:STANDARD
BEGIN:DAYLIGHT
TZOFFSETFROM:+0100
TZOFFSETTO:+0200
TZNAME:CEST
DTSTART:20260329T010000
END:DAYLIGHT
BEGIN:STANDARD
TZOFFSETFROM:+0200
TZOFFSETTO:+0100
TZNAME:CET
DTSTART:20261025T010000
END:STANDARD
END:VTIMEZONE
BEGIN:VEVENT
DTSTART;TZID=Europe/Berlin:20250408T190000
DTEND;TZID=Europe/Berlin:20250408T200000
DTSTAMP:20260419T182925
CREATED:20230327T211006Z
LAST-MODIFIED:20250311T134214Z
UID:10000054-1744138800-1744142400@queller-gemeinschaft.de
SUMMARY:Jahreshauptversammlung Queller Finnbahn e. V.
DESCRIPTION:Tagesordung: \n\nBegrüßung \nFeststellung der ordnungsgemäßen Einberufung und der Beschlussfähigkeit der Versammlung\nGenehmigung des Protokolls der letzten Jahreshauptversammlung 2024\nRückblick 2024 und Ausblick 2025 durch den 1.Vorsitzenden im Hinblick auf den geplanten Umbau der Versickerungsanlage zu einem Gewässerretentionsraum und der damit verbundenen Umgestaltung der Finnbahn in Teilbereichen\nBericht der Kassenwartin\nBericht der Kassenprüfer und Entlastung des Vorstandes\nVerschiedenes\n\nWir freuen uns auf zahlreiches Erscheinen.
URL:https://queller-gemeinschaft.de/veranstaltungen/jahreshauptversammlung-queller-finnbahn-e-v/
LOCATION:Gemeindehaus Ev. Kirchengemeinde\, Georgstr. 19\, Bielefeld\, NRW\, 33649\, Deutschland
CATEGORIES:Jahreshauptversammlung
ATTACH;FMTTYPE=image/jpeg:https://queller-gemeinschaft.de/wp-content/uploads/2024/04/Finnbahn.jpeg
ORGANIZER;CN="Queller Finnbahn e. V.":MAILTO:info@queller-finnbahn.de
END:VEVENT
BEGIN:VEVENT
DTSTART;TZID=Europe/Berlin:20240513T190000
DTEND;TZID=Europe/Berlin:20240513T200000
DTSTAMP:20260419T182925
CREATED:20240212T215932Z
LAST-MODIFIED:20240212T215932Z
UID:10000167-1715626800-1715630400@queller-gemeinschaft.de
SUMMARY:Jahreshauptversammlung Queller Finnbahn e. V.
DESCRIPTION:Die Versammlung wird mit den folgenden Tagesordnungspunkten einberufen: \n\nBegrüßung \nFeststellung der Beschlussfähigkeit\nGenehmigung es Protokoll der letzten JHV \nRückblick 2023 und Ausblick 2024 durch den 1. Vorsitzenden\nBericht der Kassiererin\nBericht der Kassenprüfer\nEntlastung des Vorstandes\nWahl des Vorstandes\nVerschiedenes\n\n               \nWir freuen uns auf zahlreiches Erscheinen.
URL:https://queller-gemeinschaft.de/veranstaltungen/jahreshauptversammlung-queller-finnbahn-e-v-2/
LOCATION:Gemeindehaus Ev. Kirchengemeinde\, Georgstr. 19\, Bielefeld\, NRW\, 33649\, Deutschland
ATTACH;FMTTYPE=image/jpeg:https://queller-gemeinschaft.de/wp-content/uploads/2022/11/meeting-gd5a576e32_1280.jpg
ORGANIZER;CN="Queller Finnbahn e. V.":MAILTO:info@queller-finnbahn.de
END:VEVENT
END:VCALENDAR